BEGIN:VCALENDAR
VERSION:2.0
PRODID:-//Lucius Beebe Memorial Library - ECPv6.15.20//NONSGML v1.0//EN
CALSCALE:GREGORIAN
METHOD:PUBLISH
X-WR-CALNAME:Lucius Beebe Memorial Library
X-ORIGINAL-URL:https://wakefieldlibrary.org
X-WR-CALDESC:Events for Lucius Beebe Memorial Library
REFRESH-INTERVAL;VALUE=DURATION:PT1H
X-Robots-Tag:noindex
X-PUBLISHED-TTL:PT1H
BEGIN:VTIMEZONE
TZID:America/New_York
BEGIN:DAYLIGHT
TZOFFSETFROM:-0500
TZOFFSETTO:-0400
TZNAME:EDT
DTSTART:20250309T070000
END:DAYLIGHT
BEGIN:STANDARD
TZOFFSETFROM:-0400
TZOFFSETTO:-0500
TZNAME:EST
DTSTART:20251102T060000
END:STANDARD
BEGIN:DAYLIGHT
TZOFFSETFROM:-0500
TZOFFSETTO:-0400
TZNAME:EDT
DTSTART:20260308T070000
END:DAYLIGHT
BEGIN:STANDARD
TZOFFSETFROM:-0400
TZOFFSETTO:-0500
TZNAME:EST
DTSTART:20261101T060000
END:STANDARD
BEGIN:DAYLIGHT
TZOFFSETFROM:-0500
TZOFFSETTO:-0400
TZNAME:EDT
DTSTART:20270314T070000
END:DAYLIGHT
BEGIN:STANDARD
TZOFFSETFROM:-0400
TZOFFSETTO:-0500
TZNAME:EST
DTSTART:20271107T060000
END:STANDARD
END:VTIMEZONE
BEGIN:VEVENT
DTSTART;TZID=America/New_York:20260430T153000
DTEND;TZID=America/New_York:20260430T163000
DTSTAMP:20260425T135430
CREATED:20260408T142427Z
LAST-MODIFIED:20260408T142427Z
UID:72658-1777563000-1777566600@wakefieldlibrary.org
SUMMARY:Candy Sushi Challenge
DESCRIPTION:For middle and high schoolers (grades 5-12). Team up to fill a sweet sushi order! Start with a scavenger hunt to find items from the menu\, then work with your teammates to recreate different types of sushi using Rice Krispies Treats\, Fruit Roll-Ups\, and other candies to complete the order the fastest.
URL:https://wakefieldlibrary.org/event/candy-sushi-challenge-2/
LOCATION:Lecture Hall\, 2 Main St\, Wakefield\, MA\, United States
CATEGORIES:Featured,Teens
END:VEVENT
BEGIN:VEVENT
DTSTART;TZID=America/New_York:20260501T153000
DTEND;TZID=America/New_York:20260501T163000
DTSTAMP:20260425T135430
CREATED:20260409T142542Z
LAST-MODIFIED:20260409T142542Z
UID:72665-1777649400-1777653000@wakefieldlibrary.org
SUMMARY:First Friday Family Art Studio
DESCRIPTION:For all ages and families. Create art in a new medium each month at the Open Art Studio! Explore all kinds of tools\, perspectives\, and styles. This month’s project is TBDRegistration is required and will open one week prior to the program.
URL:https://wakefieldlibrary.org/event/first-friday-family-art-studio-3/
LOCATION:Lecture Hall\, 2 Main St\, Wakefield\, MA\, United States
CATEGORIES:Children,Featured,Teens
END:VEVENT
BEGIN:VEVENT
DTSTART;TZID=America/New_York:20260505T153000
DTEND;TZID=America/New_York:20260505T163000
DTSTAMP:20260425T135430
CREATED:20260410T142503Z
LAST-MODIFIED:20260410T142503Z
UID:72674-1777995000-1777998600@wakefieldlibrary.org
SUMMARY:Tech Take-Apart
DESCRIPTION:For grades 5-8. Try some reverse engineering with hands-on exploration of familiar machines. Various tools and safety equipment will be used during this program. Registration is required and will open one week prior to the program.
URL:https://wakefieldlibrary.org/event/tech-take-apart/
LOCATION:Lecture Hall\, 2 Main St\, Wakefield\, MA\, United States
CATEGORIES:Featured,Teens
END:VEVENT
BEGIN:VEVENT
DTSTART;TZID=America/New_York:20260505T190000
DTEND;TZID=America/New_York:20260505T200000
DTSTAMP:20260425T135430
CREATED:20260410T142503Z
LAST-MODIFIED:20260410T142503Z
UID:72676-1778007600-1778011200@wakefieldlibrary.org
SUMMARY:Chess Club
DESCRIPTION:For grades 2-8. Calling all chess players! Woman International Master of Chess and MA Chess Association Director Kateryna Odnorozhenko will help you analyze your games\, offer professional guidance\, and answer questions to help you improve your skills. Chess Club is for players of all levels\, although beginners must be familiar with placement of the pieces\, and the rules of how each piece moves.
URL:https://wakefieldlibrary.org/event/chess-club-14/
LOCATION:Program Room\, 2 Main St\, Wakefield\, MA\, United States
CATEGORIES:Children,Featured,Teens
END:VEVENT
BEGIN:VEVENT
DTSTART;TZID=America/New_York:20260506T153000
DTEND;TZID=America/New_York:20260506T163000
DTSTAMP:20260425T135430
CREATED:20260415T143949Z
LAST-MODIFIED:20260415T143949Z
UID:72701-1778081400-1778085000@wakefieldlibrary.org
SUMMARY:Creative Writers' Society
DESCRIPTION:For grades 6-12. Meet up with fellow creative writers to get some writing practice in\, bounce ideas around\, and enjoy some uninterrupted free writing time! Creative Writers’ Society will consist of a MadLib icebreaker\, a brief writing exercise\, an open free-write\, and an opportunity to share your work with the group.
URL:https://wakefieldlibrary.org/event/creative-writers-society-4/
LOCATION:Program Room\, 2 Main St\, Wakefield\, MA\, United States
CATEGORIES:Featured,Teens
END:VEVENT
BEGIN:VEVENT
DTSTART;TZID=America/New_York:20260511T000000
DTEND;TZID=America/New_York:20260511T000000
DTSTAMP:20260425T135430
CREATED:20260417T144539Z
LAST-MODIFIED:20260417T144539Z
UID:72722-1778457600-1778457600@wakefieldlibrary.org
SUMMARY:Hurry to the Hive Scavenger Hunt
DESCRIPTION:For all ages &amp; families. World Bee Day is coming up (May 20) and the bees are ready to celebrate! But they need some help getting back to their hive before the big day. Can you find the bees hidden in the library? You’ll have to use your counting skills to get them all back in the right order!The scavenger hunt runs all day long from Monday\, May 11 – Saturday\, May 16.
URL:https://wakefieldlibrary.org/event/hurry-to-the-hive-scavenger-hunt/
LOCATION:Children's Area\, 2 Main St\, Wakefield\, MA\, United States
CATEGORIES:Children,Featured,Teens
END:VEVENT
BEGIN:VEVENT
DTSTART;TZID=America/New_York:20260512T000000
DTEND;TZID=America/New_York:20260512T000000
DTSTAMP:20260425T135430
CREATED:20260422T144604Z
LAST-MODIFIED:20260422T144604Z
UID:72742-1778544000-1778544000@wakefieldlibrary.org
SUMMARY:Hurry to the Hive Scavenger Hunt
DESCRIPTION:For all ages &amp; families. World Bee Day is coming up (May 20) and the bees are ready to celebrate! But they need some help getting back to their hive before the big day. Can you find the bees hidden in the library? You’ll have to use your counting skills to get them all back in the right order!The scavenger hunt runs all day long from Monday\, May 11 – Saturday\, May 16.
URL:https://wakefieldlibrary.org/event/hurry-to-the-hive-scavenger-hunt-2/
LOCATION:Children's Area\, 2 Main St\, Wakefield\, MA\, United States
CATEGORIES:Children,Featured,Teens
END:VEVENT
BEGIN:VEVENT
DTSTART;TZID=America/New_York:20260513T000000
DTEND;TZID=America/New_York:20260513T000000
DTSTAMP:20260425T135430
CREATED:20260423T144634Z
LAST-MODIFIED:20260423T144634Z
UID:72751-1778630400-1778630400@wakefieldlibrary.org
SUMMARY:Hurry to the Hive Scavenger Hunt
DESCRIPTION:For all ages &amp; families. World Bee Day is coming up (May 20) and the bees are ready to celebrate! But they need some help getting back to their hive before the big day. Can you find the bees hidden in the library? You’ll have to use your counting skills to get them all back in the right order!The scavenger hunt runs all day long from Monday\, May 11 – Saturday\, May 16.
URL:https://wakefieldlibrary.org/event/hurry-to-the-hive-scavenger-hunt-3/
LOCATION:Children's Area\, 2 Main St\, Wakefield\, MA\, United States
CATEGORIES:Children,Featured,Teens
END:VEVENT
BEGIN:VEVENT
DTSTART;TZID=America/New_York:20260513T190000
DTEND;TZID=America/New_York:20260513T200000
DTSTAMP:20260425T135430
CREATED:20260424T150024Z
LAST-MODIFIED:20260424T150024Z
UID:72758-1778698800-1778702400@wakefieldlibrary.org
SUMMARY:Next Chapter Book Club
DESCRIPTION:For grades 5-6 & an adult. Join Ms. Annie for an intergenerational book club where readers choose the books and lead discussions and activities! This program is set up at our informational meeting in September where reading selections are chosen by club members.
URL:https://wakefieldlibrary.org/event/next-chapter-book-club-22/
LOCATION:Lecture Hall\, 2 Main St\, Wakefield\, MA\, United States
CATEGORIES:Featured,Teens
END:VEVENT
BEGIN:VEVENT
DTSTART;TZID=America/New_York:20260514T000000
DTEND;TZID=America/New_York:20260514T000000
DTSTAMP:20260425T135430
CREATED:20260425T150033Z
LAST-MODIFIED:20260425T150033Z
UID:72769-1778716800-1778716800@wakefieldlibrary.org
SUMMARY:Hurry to the Hive Scavenger Hunt
DESCRIPTION:For all ages &amp; families. World Bee Day is coming up (May 20) and the bees are ready to celebrate! But they need some help getting back to their hive before the big day. Can you find the bees hidden in the library? You’ll have to use your counting skills to get them all back in the right order!The scavenger hunt runs all day long from Monday\, May 11 – Saturday\, May 16.
URL:https://wakefieldlibrary.org/event/hurry-to-the-hive-scavenger-hunt-4/
LOCATION:Children's Area\, 2 Main St\, Wakefield\, MA\, United States
CATEGORIES:Children,Featured,Teens
END:VEVENT
BEGIN:VEVENT
DTSTART;TZID=America/New_York:20260515T000000
DTEND;TZID=America/New_York:20260515T000000
DTSTAMP:20260425T135430
CREATED:20260425T150033Z
LAST-MODIFIED:20260425T150033Z
UID:72771-1778803200-1778803200@wakefieldlibrary.org
SUMMARY:Hurry to the Hive Scavenger Hunt
DESCRIPTION:For all ages &amp; families. World Bee Day is coming up (May 20) and the bees are ready to celebrate! But they need some help getting back to their hive before the big day. Can you find the bees hidden in the library? You’ll have to use your counting skills to get them all back in the right order!The scavenger hunt runs all day long from Monday\, May 11 – Saturday\, May 16.
URL:https://wakefieldlibrary.org/event/hurry-to-the-hive-scavenger-hunt-5/
LOCATION:Children's Area\, 2 Main St\, Wakefield\, MA\, United States
CATEGORIES:Children,Featured,Teens
END:VEVENT
END:VCALENDAR